BEGIN:VCALENDAR
VERSION:2.0
CREATED:20260422T124101Z
PRODID:-//Paychex\, Inc./Equisolve Calendar v1.0//EN
METHOD:PUBLISH
BEGIN:VEVENT
UID:92589d95617e3fa2805dba20dacceba5
DTSTAMP:20260424T121819Z
DTSTART:20260519T173500Z
DTEND:20260519T183500Z
SUMMARY:J.P. Morgan 2026 Global Technology\, Media and Communications Conference
DESCRIPTION:J.P. Morgan 2026 Global Technology\, Media and Communications Conference\n\nDate: May 19\, 2026 1:35 pm EDT\n\nWebcast: https://jpmorgan.metameetings.net/events/tmc26/sessions/318894-paychex-inc/webcast/public
END:VEVENT
END:VCALENDAR
